BEGIN:VCALENDAR
VERSION:2.0
PRODID:-//Alabama Clean Fuels Coalition - ECPv6.13.2.1//NONSGML v1.0//EN
CALSCALE:GREGORIAN
METHOD:PUBLISH
X-ORIGINAL-URL:https://alabamacleanfuels.org
X-WR-CALDESC:Events for Alabama Clean Fuels Coalition
REFRESH-INTERVAL;VALUE=DURATION:PT1H
X-Robots-Tag:noindex
X-PUBLISHED-TTL:PT1H
BEGIN:VTIMEZONE
TZID:America/New_York
BEGIN:DAYLIGHT
TZOFFSETFROM:-0500
TZOFFSETTO:-0400
TZNAME:EDT
DTSTART:20260308T070000
END:DAYLIGHT
BEGIN:STANDARD
TZOFFSETFROM:-0400
TZOFFSETTO:-0500
TZNAME:EST
DTSTART:20261101T060000
END:STANDARD
END:VTIMEZONE
BEGIN:VEVENT
DTSTART;TZID=America/New_York:20260516T100000
DTEND;TZID=America/New_York:20260516T140000
DTSTAMP:20260424T041815
CREATED:20260423T204334Z
LAST-MODIFIED:20260423T204334Z
UID:2568-1778925600-1778940000@alabamacleanfuels.org
SUMMARY:Bay Area Drive Electric Alabama EV Showcase - Greer's Supermarket
DESCRIPTION:Join us for an EV Showcase at Greer’s Supermarket in Mobile\, AL\, on May 16th from 10 AM – 2 PM. Everyone is welcome! Explore the latest EV models from top manufacturers and learn about their benefits\, including lower costs and environmental impact. Speak with experts about charging options and incentives. \nBring your family and friends to discover how electric cars are shaping the future. We hope to see you there for a fun and informative day!
URL:https://alabamacleanfuels.org/event/bay-area-drive-electric-alabama-ev-showcase-greers-supermarket/
LOCATION:Greer’s Market\, 260 St Louis Street\, Mobile\, AL\, 36602\, United States
END:VEVENT
BEGIN:VEVENT
DTSTART;TZID=America/New_York:20260711T160000
DTEND;TZID=America/New_York:20260711T220000
DTSTAMP:20260424T041815
CREATED:20260223T192359Z
LAST-MODIFIED:20260402T184015Z
UID:2503-1783785600-1783807200@alabamacleanfuels.org
SUMMARY:Birmingham Drive Electric Alabama Chapter Ride & Drive + Concert + EV Showcase – July 11 (Brock’s Gap Brewing)
DESCRIPTION:See EVs\, talk to owners\, and get real answers on charging\, performance\, and ownership—no sales pitch. Get behind the wheel with Ride & Drive test drives\, then stay for the Deputy 5 concert\, food\, and a great evening at Brock’s Gap Brewing. \nSchedule of events: \n\nEV Ride and Drive 2-7pm\nEV Showcase 3-7pm\nDeputy 5 Concert 7-11pm\n\nDon’t miss this exciting opportunity to explore electric vehicles and have fun with the community! \n 
URL:https://alabamacleanfuels.org/event/drive-electric-alabama-ride-drive-concert-ev-showcase/
LOCATION:Brock’s Gap Brewing Company\, 500 Mineral Trace\, Hoover\, AL\, 35244\, United States
END:VEVENT
BEGIN:VEVENT
DTSTART;TZID=America/New_York:20260919T100000
DTEND;TZID=America/New_York:20260919T140000
DTSTAMP:20260424T041815
CREATED:20260202T150808Z
LAST-MODIFIED:20260402T184029Z
UID:2496-1789812000-1789826400@alabamacleanfuels.org
SUMMARY:Drive Electric Alabama EV Showcase – Rickwood Caverns
DESCRIPTION:Talk to EV owners and get clear\, real-world insight into charging\, performance\, and ownership. Set at Rickwood Caverns as part of a broader outing where you can explore the park and enjoy the setting.
URL:https://alabamacleanfuels.org/event/dea-ev-showcase-rickwood-caverns/
LOCATION:Rickwood Caverns\, 370 Rickwood Park Road\, Warrior\, AL\, 35180\, United States
END:VEVENT
BEGIN:VEVENT
DTSTART;TZID=America/New_York:20261010T080000
DTEND;TZID=America/New_York:20261010T120000
DTSTAMP:20260424T041815
CREATED:20251204T051539Z
LAST-MODIFIED:20260402T184038Z
UID:2477-1791619200-1791633600@alabamacleanfuels.org
SUMMARY:Birmingham Drive Electric Alabama Chapter Fall EV Showcase 2026 – Pepper Place
DESCRIPTION:See EVs up close and talk directly with owners about charging\, performance\, and daily use. Part of National Drive Electric Week at Pepper Place with food vendors and a lively market atmosphere. \n 
URL:https://alabamacleanfuels.org/event/drive-electric-week-2026/
LOCATION:The Pepper Place\, 2930 3rd Ave South\, Birmingham\, AL\, 35233\, United States
END:VEVENT
END:VCALENDAR